BEGIN:VCALENDAR
VERSION:2.0
PRODID:-//Peach New Media//Web Event Information//EN
METHOD:REQUEST
BEGIN:VEVENT
UID:20260422T073915-1503736706@peachnewmedia.com
DTSTAMP:20260422T073915
DTSTART:20260430T170000Z
DURATION:PT60M
SUMMARY:Is My Baby Still Breathing? 
DESCRIPTION: Click here for a full description of this event: http://abbhh.peachnewmedia.com/store/seminar/seminar.php?seminar=212644
ORGANIZER;CN=Ascension Alexian Brothers Behavioral Health Hospital:MAILTO:noreply@peachnewmedia.com
END:VEVENT
END:VCALENDAR
